Workbook

Sheet Dashboard
A1: Gulf Coast Supply Co. - Sales dashboard (Jan-Jun 2026)
A3: Total revenue | B3: =SUM(Data!H2:H201)
A4: Orders | B4: =COUNTA(Data!B2:B201)
A5: Average order value | B5: =B3/B4
A6: Units sold | B6: =SUM(Data!F2:F201)
A7: Top region | B7: =INDEX(A11:A14,MATCH(MAX(H11:H14),H11:H14,0))
A9: Revenue by region and month
A10: Region | B10: 46023 | C10: 46054 | D10: 46082 | E10: 46113 | F10: 46143 | G10: 46174 | H10: Total
A11: Gulf Coast | B11: =SUMIFS(Data!$H$2:$H$201,Data!$C$2:$C$201,$A11,Data!$A$2:$A$201,">="&B$10,Data!$A$2:$A$201,"<"&EDATE(B$10,1)) | C11: =SUMIFS(Data!$H$2:$H$201,Data!$C$2:$C$201,$A11,Data!$A$2:$A$201,">="&C$10,Data!$A$2:$A$201,"<"&EDATE(C$10,1)) | D11: =SUMIFS(Data!$H$2:$H$201,Data!$C$2:$C$201,$A11,Data!$A$2:$A$201,">="&D$10,Data!$A$2:$A$201,"<"&EDATE(D$10,1)) | E11: =SUMIFS(Data!$H$2:$H$201,Data!$C$2:$C$201,$A11,Data!$A$2:$A$201,">="&E$10,Data!$A$2:$A$201,"<"&EDATE(E$10,1)) | F11: =SUMIFS(Data!$H$2:$H$201,Data!$C$2:$C$201,$A11,Data!$A$2:$A$201,">="&F$10,Data!$A$2:$A$201,"<"&EDATE(F$10,1)) | G11: =SUMIFS(Data!$H$2:$H$201,Data!$C$2:$C$201,$A11,Data!$A$2:$A$201,">="&G$10,Data!$A$2:$A$201,"<"&EDATE(G$10,1)) | H11: =SUM(B11:G11)
A12: Delta | B12: =SUMIFS(Data!$H$2:$H$201,Data!$C$2:$C$201,$A12,Data!$A$2:$A$201,">="&B$10,Data!$A$2:$A$201,"<"&EDATE(B$10,1)) | C12: =SUMIFS(Data!$H$2:$H$201,Data!$C$2:$C$201,$A12,Data!$A$2:$A$201,">="&C$10,Data!$A$2:$A$201,"<"&EDATE(C$10,1)) | D12: =SUMIFS(Data!$H$2:$H$201,Data!$C$2:$C$201,$A12,Data!$A$2:$A$201,">="&D$10,Data!$A$2:$A$201,"<"&EDATE(D$10,1)) | E12: =SUMIFS(Data!$H$2:$H$201,Data!$C$2:$C$201,$A12,Data!$A$2:$A$201,">="&E$10,Data!$A$2:$A$201,"<"&EDATE(E$10,1)) | F12: =SUMIFS(Data!$H$2:$H$201,Data!$C$2:$C$201,$A12,Data!$A$2:$A$201,">="&F$10,Data!$A$2:$A$201,"<"&EDATE(F$10,1)) | G12: =SUMIFS(Data!$H$2:$H$201,Data!$C$2:$C$201,$A12,Data!$A$2:$A$201,">="&G$10,Data!$A$2:$A$201,"<"&EDATE(G$10,1)) | H12: =SUM(B12:G12)
A13: Piedmont | B13: =SUMIFS(Data!$H$2:$H$201,Data!$C$2:$C$201,$A13,Data!$A$2:$A$201,">="&B$10,Data!$A$2:$A$201,"<"&EDATE(B$10,1)) | C13: =SUMIFS(Data!$H$2:$H$201,Data!$C$2:$C$201,$A13,Data!$A$2:$A$201,">="&C$10,Data!$A$2:$A$201,"<"&EDATE(C$10,1)) | D13: =SUMIFS(Data!$H$2:$H$201,Data!$C$2:$C$201,$A13,Data!$A$2:$A$201,">="&D$10,Data!$A$2:$A$201,"<"&EDATE(D$10,1)) | E13: =SUMIFS(Data!$H$2:$H$201,Data!$C$2:$C$201,$A13,Data!$A$2:$A$201,">="&E$10,Data!$A$2:$A$201,"<"&EDATE(E$10,1)) | F13: =SUMIFS(Data!$H$2:$H$201,Data!$C$2:$C$201,$A13,Data!$A$2:$A$201,">="&F$10,Data!$A$2:$A$201,"<"&EDATE(F$10,1)) | G13: =SUMIFS(Data!$H$2:$H$201,Data!$C$2:$C$201,$A13,Data!$A$2:$A$201,">="&G$10,Data!$A$2:$A$201,"<"&EDATE(G$10,1)) | H13: =SUM(B13:G13)
A14: Mountain | B14: =SUMIFS(Data!$H$2:$H$201,Data!$C$2:$C$201,$A14,Data!$A$2:$A$201,">="&B$10,Data!$A$2:$A$201,"<"&EDATE(B$10,1)) | C14: =SUMIFS(Data!$H$2:$H$201,Data!$C$2:$C$201,$A14,Data!$A$2:$A$201,">="&C$10,Data!$A$2:$A$201,"<"&EDATE(C$10,1)) | D14: =SUMIFS(Data!$H$2:$H$201,Data!$C$2:$C$201,$A14,Data!$A$2:$A$201,">="&D$10,Data!$A$2:$A$201,"<"&EDATE(D$10,1)) | E14: =SUMIFS(Data!$H$2:$H$201,Data!$C$2:$C$201,$A14,Data!$A$2:$A$201,">="&E$10,Data!$A$2:$A$201,"<"&EDATE(E$10,1)) | F14: =SUMIFS(Data!$H$2:$H$201,Data!$C$2:$C$201,$A14,Data!$A$2:$A$201,">="&F$10,Data!$A$2:$A$201,"<"&EDATE(F$10,1)) | G14: =SUMIFS(Data!$H$2:$H$201,Data!$C$2:$C$201,$A14,Data!$A$2:$A$201,">="&G$10,Data!$A$2:$A$201,"<"&EDATE(G$10,1)) | H14: =SUM(B14:G14)
A15: All regions | B15: =SUM(B11:B14) | C15: =SUM(C11:C14) | D15: =SUM(D11:D14) | E15: =SUM(E11:E14) | F15: =SUM(F11:F14) | G15: =SUM(G11:G14) | H15: =SUM(H11:H14)

Sheet Data
A1: Date | B1: Order ID | C1: Region | D1: Rep | E1: Product | F1: Qty | G1: Unit price | H1: Revenue
A2: 46025 | B2: SO-1094 | C2: Delta | D2: Omar Beaulieu | E2: Cable ties | F2: 19 | G2: 8.25 | H2: =F2*G2
A3: 46029 | B3: SO-1061 | C3: Delta | D3: Cindy Holt | E3: Marine rope | F3: 16 | G3: 24.5 | H3: =F3*G3
A4: 46029 | B4: SO-1129 | C4: Piedmont | D4: Lena Ortiz | E4: Marine rope | F4: 40 | G4: 24.5 | H4: =F4*G4
A5: 46030 | B5: SO-1167 | C5: Gulf Coast | D5: Rene Duval | E5: Marine rope | F5: 37 | G5: 24.5 | H5: =F5*G5
A6: 46031 | B6: SO-1178 | C6: Delta | D6: Cindy Holt | E6: LED lantern | F6: 8 | G6: 38 | H6: =F6*G6
A7: 46032 | B7: SO-1038 | C7: Gulf Coast | D7: Tasha Pruitt | E7: Work gloves | F7: 5 | G7: 12.75 | H7: =F7*G7
A8: 46032 | B8: SO-1101 | C8: Mountain | D8: Pete Marsh | E8: Cable ties | F8: 7 | G8: 8.25 | H8: =F8*G8
A9: 46034 | B9: SO-1065 | C9: Mountain | D9: Pete Marsh | E9: LED lantern | F9: 25 | G9: 38 | H9: =F9*G9
A10: 46034 | B10: SO-1152 | C10: Gulf Coast | D10: Tasha Pruitt | E10: Cable ties | F10: 35 | G10: 8.25 | H10: =F10*G10
A11: 46035 | B11: SO-1009 | C11: Delta | D11: Cindy Holt | E11: LED lantern | F11: 22 | G11: 38 | H11: =F11*G11
A12: 46036 | B12: SO-1024 | C12: Piedmont | D12: Wade Sutton | E12: Tarp 10x12 | F12: 38 | G12: 29.9 | H12: =F12*G12
A13: 46036 | B13: SO-1029 | C13: Piedmont | D13: Wade Sutton | E13: Cable ties | F13: 8 | G13: 8.25 | H13: =F13*G13
... A201: 46203 | B201: SO-1199 | C201: Piedmont | D201: Lena Ortiz | E201: LED lantern | F201: 25 | G201: 38 | H201: =F201*G201
