Workbook

Sheet Transactions
A1: Date | B1: Description | C1: Category | D1: Debit | E1: Credit | F1: Balance | G1: Check
A2: 46082 | B2: Customer payment - Harbor Marine LLC | C2: Sales Receipts | E2: 5601.22 | F2: 24051.22 | G2: =IF(ROUND(18450.0-N(D2)+N(E2)-F2,2)=0,"OK","CHECK")
A3: 46083 | B3: Customer payment - Bayou Builders | C3: Sales Receipts | E3: 3668.85 | F3: 27720.07 | G3: =IF(ROUND(F2-N(D3)+N(E3)-F3,2)=0,"OK","CHECK")
A4: 46084 | B4: ACH credit - Magnolia Hardware | C4: Sales Receipts | E4: 2756.85 | F4: 30476.92 | G4: =IF(ROUND(F3-N(D4)+N(E4)-F4,2)=0,"OK","CHECK")
A5: 46085 | B5: Card sales settlement | C5: Sales Receipts | E5: 1649.57 | F5: 32126.49 | G5: =IF(ROUND(F4-N(D5)+N(E5)-F5,2)=0,"OK","CHECK")
A6: 46086 | B6: Gulf Power - electric | C6: Utilities | D6: 349.11 | F6: 31777.38 | G6: =IF(ROUND(F5-N(D6)+N(E6)-F6,2)=0,"OK","CHECK")
A7: 46087 | B7: Check 1042 - Delta Industrial Supply | C7: Inventory | D7: 2014.66 | F7: 29762.72 | G7: =IF(ROUND(F6-N(D7)+N(E7)-F7,2)=0,"OK","CHECK")
A8: 46088 | B8: Shell Oil - fuel | C8: Fuel & Vehicle | D8: 61.35 | F8: 29701.37 | G8: =IF(ROUND(F7-N(D8)+N(E8)-F8,2)=0,"OK","CHECK")
A9: 46089 | B9: Home Depot - supplies | C9: Supplies | D9: 339.36 | F9: 29362.01 | G9: =IF(ROUND(F8-N(D9)+N(E9)-F9,2)=0,"OK","CHECK")
A10: 46091 | B10: Paychex payroll | C10: Payroll | D10: 5096.12 | F10: 24265.89 | G10: =IF(ROUND(F9-N(D10)+N(E10)-F10,2)=0,"OK","CHECK")
A11: 46092 | B11: Coastal Insurance Group - premium | C11: Insurance | D11: 380 | F11: 23885.89 | G11: =IF(ROUND(F10-N(D11)+N(E11)-F11,2)=0,"OK","CHECK")
A12: 46093 | B12: Staples - office supplies | C12: Supplies | D12: 121.15 | F12: 23764.74 | G12: =IF(ROUND(F11-N(D12)+N(E12)-F12,2)=0,"OK","CHECK")
A13: 46094 | B13: Adobe subscription | C13: Software | D13: 54.99 | F13: 23709.75 | G13: =IF(ROUND(F12-N(D13)+N(E13)-F13,2)=0,"OK","CHECK")
A14: 46096 | B14: Waffle House - meals | C14: Meals | D14: 36.65 | F14: 23673.1 | G14: =IF(ROUND(F13-N(D14)+N(E14)-F14,2)=0,"OK","CHECK")
A15: 46100 | B15: Monthly service fee | C15: Bank Fees | D15: 15 | F15: 23658.1 | G15: =IF(ROUND(F14-N(D15)+N(E15)-F15,2)=0,"OK","CHECK")
A16: 46101 | B16: Pelican Properties - rent | C16: Rent | D16: 2150 | F16: 21508.1 | G16: =IF(ROUND(F15-N(D16)+N(E16)-F16,2)=0,"OK","CHECK")
A17: 46105 | B17: Check 1042 - Delta Industrial Supply | C17: Inventory | D17: 2615.98 | F17: 18892.12 | G17: =IF(ROUND(F16-N(D17)+N(E17)-F17,2)=0,"OK","CHECK")
A18: 46106 | B18: Paychex payroll | C18: Payroll | D18: 4460.14 | F18: 14431.98 | G18: =IF(ROUND(F17-N(D18)+N(E18)-F18,2)=0,"OK","CHECK")
A19: 46107 | B19: Customer payment - Bayou Builders | C19: Sales Receipts | E19: 3827.31 | F19: 18259.29 | G19: =IF(ROUND(F18-N(D19)+N(E19)-F19,2)=0,"OK","CHECK")
A20: 46110 | B20: Customer payment - Bayou Builders | C20: Sales Receipts | E20: 3241.44 | F20: 21500.73 | G20: =IF(ROUND(F19-N(D20)+N(E20)-F20,2)=0,"OK","CHECK")
A21: 46111 | B21: Monthly service fee | C21: Bank Fees | D21: 15 | F21: 21485.73 | G21: =IF(ROUND(F20-N(D21)+N(E21)-F21,2)=0,"OK","CHECK")
A22: 46112 | B22: Gulf Power - electric | C22: Utilities | D22: 291.17 | F22: 21194.56 | G22: =IF(ROUND(F21-N(D22)+N(E22)-F22,2)=0,"OK","CHECK")
A23: 46114 | B23: Customer payment - Harbor Marine LLC | C23: Sales Receipts | E23: 5619.78 | F23: 26814.34 | G23: =IF(ROUND(F22-N(D23)+N(E23)-F23,2)=0,"OK","CHECK")
A24: 46115 | B24: Customer payment - Harbor Marine LLC | C24: Sales Receipts | E24: 3211.31 | F24: 30025.65 | G24: =IF(ROUND(F23-N(D24)+N(E24)-F24,2)=0,"OK","CHECK")
A25: 46116 | B25: Pelican Properties - rent | C25: Rent | D25: 2150 | F25: 27875.65 | G25: =IF(ROUND(F24-N(D25)+N(E25)-F25,2)=0,"OK","CHECK")
A26: 46117 | B26: Pelican Properties - rent | C26: Rent | D26: 2150 | F26: 25725.65 | G26: =IF(ROUND(F25-N(D26)+N(E26)-F26,2)=0,"OK","CHECK")
A27: 46119 | B27: Customer payment - Harbor Marine LLC | C27: Sales Receipts | E27: 4185.95 | F27: 29911.6 | G27: =IF(ROUND(F26-N(D27)+N(E27)-F27,2)=0,"OK","CHECK")
A28: 46120 | B28: Adobe subscription | C28: Software | D28: 54.99 | F28: 29856.61 | G28: =IF(ROUND(F27-N(D28)+N(E28)-F28,2)=0,"OK","CHECK")
A29: 46121 | B29: Shell Oil - fuel | C29: Fuel & Vehicle | D29: 68.15 | F29: 29788.46 | G29: =IF(ROUND(F28-N(D29)+N(E29)-F29,2)=0,"OK","CHECK")
A30: 46122 | B30: Coastal Insurance Group - premium | C30: Insurance | D30: 380 | F30: 29408.46 | G30: =IF(ROUND(F29-N(D30)+N(E30)-F30,2)=0,"OK","CHECK")
A31: 46123 | B31: Staples - office supplies | C31: Supplies | D31: 45.42 | F31: 29363.04 | G31: =IF(ROUND(F30-N(D31)+N(E31)-F31,2)=0,"OK","CHECK")
A32: 46124 | B32: Staples - office supplies | C32: Supplies | D32: 53.83 | F32: 29309.21 | G32: =IF(ROUND(F31-N(D32)+N(E32)-F32,2)=0,"OK","CHECK")
A33: 46125 | B33: Customer payment - Bayou Builders | C33: Sales Receipts | E33: 2920.35 | F33: 32229.56 | G33: =IF(ROUND(F32-N(D33)+N(E33)-F33,2)=0,"OK","CHECK")
A34: 46131 | B34: Customer payment - Harbor Marine LLC | C34: Sales Receipts | E34: 6063.49 | F34: 38293.05 | G34: =IF(ROUND(F33-N(D34)+N(E34)-F34,2)=0,"OK","CHECK")
A35: 46134 | B35: Waffle House - meals | C35: Meals | D35: 43.53 | F35: 38249.52 | G35: =IF(ROUND(F34-N(D35)+N(E35)-F35,2)=0,"OK","CHECK")
A36: 46135 | B36: ACH credit - Magnolia Hardware | C36: Sales Receipts | E36: 1614.53 | F36: 39864.05 | G36: =IF(ROUND(F35-N(D36)+N(E36)-F36,2)=0,"OK","CHECK")
A37: 46136 | B37: Customer payment - Bayou Builders | C37: Sales Receipts | E37: 1839.44 | F37: 41703.49 | G37: =IF(ROUND(F36-N(D37)+N(E37)-F37,2)=0,"OK","CHECK")
A38: 46137 | B38: Home Depot - supplies | C38: Supplies | D38: 284.18 | F38: 41419.31 | G38: =IF(ROUND(F37-N(D38)+N(E38)-F38,2)=0,"OK","CHECK")
A39: 46139 | B39: ACH credit - Magnolia Hardware | C39: Sales Receipts | E39: 2878.02 | F39: 44297.33 | G39: =IF(ROUND(F38-N(D39)+N(E39)-F39,2)=0,"OK","CHECK")
A40: 46140 | B40: Card sales settlement | C40: Sales Receipts | E40: 1550.11 | F40: 45847.44 | G40: =IF(ROUND(F39-N(D40)+N(E40)-F40,2)=0,"OK","CHECK")
...

Sheet Summary
A1: Gulf Coast Supply Co. - spending by category and month
A3: Category | B3: 46082 | C3: 46113 | D3: Total | E3: Type
A4: Sales Receipts | B4: =SUMIFS(Transactions!$E$2:$E$41,Transactions!$C$2:$C$41,$A4,Transactions!$A$2:$A$41,">="&B$3,Transactions!$A$2:$A$41,"<"&EDATE(B$3,1)) | C4: =SUMIFS(Transactions!$E$2:$E$41,Transactions!$C$2:$C$41,$A4,Transactions!$A$2:$A$41,">="&C$3,Transactions!$A$2:$A$41,"<"&EDATE(C$3,1)) | D4: =B4+C4 | E4: Money in
A5: Bank Fees | B5: =SUMIFS(Transactions!$D$2:$D$41,Transactions!$C$2:$C$41,$A5,Transactions!$A$2:$A$41,">="&B$3,Transactions!$A$2:$A$41,"<"&EDATE(B$3,1)) | C5: =SUMIFS(Transactions!$D$2:$D$41,Transactions!$C$2:$C$41,$A5,Transactions!$A$2:$A$41,">="&C$3,Transactions!$A$2:$A$41,"<"&EDATE(C$3,1)) | D5: =B5+C5 | E5: Money out
A6: Fuel & Vehicle | B6: =SUMIFS(Transactions!$D$2:$D$41,Transactions!$C$2:$C$41,$A6,Transactions!$A$2:$A$41,">="&B$3,Transactions!$A$2:$A$41,"<"&EDATE(B$3,1)) | C6: =SUMIFS(Transactions!$D$2:$D$41,Transactions!$C$2:$C$41,$A6,Transactions!$A$2:$A$41,">="&C$3,Transactions!$A$2:$A$41,"<"&EDATE(C$3,1)) | D6: =B6+C6 | E6: Money out
A7: Insurance | B7: =SUMIFS(Transactions!$D$2:$D$41,Transactions!$C$2:$C$41,$A7,Transactions!$A$2:$A$41,">="&B$3,Transactions!$A$2:$A$41,"<"&EDATE(B$3,1)) | C7: =SUMIFS(Transactions!$D$2:$D$41,Transactions!$C$2:$C$41,$A7,Transactions!$A$2:$A$41,">="&C$3,Transactions!$A$2:$A$41,"<"&EDATE(C$3,1)) | D7: =B7+C7 | E7: Money out
A8: Inventory | B8: =SUMIFS(Transactions!$D$2:$D$41,Transactions!$C$2:$C$41,$A8,Transactions!$A$2:$A$41,">="&B$3,Transactions!$A$2:$A$41,"<"&EDATE(B$3,1)) | C8: =SUMIFS(Transactions!$D$2:$D$41,Transactions!$C$2:$C$41,$A8,Transactions!$A$2:$A$41,">="&C$3,Transactions!$A$2:$A$41,"<"&EDATE(C$3,1)) | D8: =B8+C8 | E8: Money out
A9: Meals | B9: =SUMIFS(Transactions!$D$2:$D$41,Transactions!$C$2:$C$41,$A9,Transactions!$A$2:$A$41,">="&B$3,Transactions!$A$2:$A$41,"<"&EDATE(B$3,1)) | C9: =SUMIFS(Transactions!$D$2:$D$41,Transactions!$C$2:$C$41,$A9,Transactions!$A$2:$A$41,">="&C$3,Transactions!$A$2:$A$41,"<"&EDATE(C$3,1)) | D9: =B9+C9 | E9: Money out
A10: Payroll | B10: =SUMIFS(Transactions!$D$2:$D$41,Transactions!$C$2:$C$41,$A10,Transactions!$A$2:$A$41,">="&B$3,Transactions!$A$2:$A$41,"<"&EDATE(B$3,1)) | C10: =SUMIFS(Transactions!$D$2:$D$41,Transactions!$C$2:$C$41,$A10,Transactions!$A$2:$A$41,">="&C$3,Transactions!$A$2:$A$41,"<"&EDATE(C$3,1)) | D10: =B10+C10 | E10: Money out
A11: Rent | B11: =SUMIFS(Transactions!$D$2:$D$41,Transactions!$C$2:$C$41,$A11,Transactions!$A$2:$A$41,">="&B$3,Transactions!$A$2:$A$41,"<"&EDATE(B$3,1)) | C11: =SUMIFS(Transactions!$D$2:$D$41,Transactions!$C$2:$C$41,$A11,Transactions!$A$2:$A$41,">="&C$3,Transactions!$A$2:$A$41,"<"&EDATE(C$3,1)) | D11: =B11+C11 | E11: Money out
A12: Software | B12: =SUMIFS(Transactions!$D$2:$D$41,Transactions!$C$2:$C$41,$A12,Transactions!$A$2:$A$41,">="&B$3,Transactions!$A$2:$A$41,"<"&EDATE(B$3,1)) | C12: =SUMIFS(Transactions!$D$2:$D$41,Transactions!$C$2:$C$41,$A12,Transactions!$A$2:$A$41,">="&C$3,Transactions!$A$2:$A$41,"<"&EDATE(C$3,1)) | D12: =B12+C12 | E12: Money out
A13: Supplies | B13: =SUMIFS(Transactions!$D$2:$D$41,Transactions!$C$2:$C$41,$A13,Transactions!$A$2:$A$41,">="&B$3,Transactions!$A$2:$A$41,"<"&EDATE(B$3,1)) | C13: =SUMIFS(Transactions!$D$2:$D$41,Transactions!$C$2:$C$41,$A13,Transactions!$A$2:$A$41,">="&C$3,Transactions!$A$2:$A$41,"<"&EDATE(C$3,1)) | D13: =B13+C13 | E13: Money out
A14: Utilities | B14: =SUMIFS(Transactions!$D$2:$D$41,Transactions!$C$2:$C$41,$A14,Transactions!$A$2:$A$41,">="&B$3,Transactions!$A$2:$A$41,"<"&EDATE(B$3,1)) | C14: =SUMIFS(Transactions!$D$2:$D$41,Transactions!$C$2:$C$41,$A14,Transactions!$A$2:$A$41,">="&C$3,Transactions!$A$2:$A$41,"<"&EDATE(C$3,1)) | D14: =B14+C14 | E14: Money out
A16: Opening balance | B16: 18450
A17: + Total credits | B17: =SUM(Transactions!E2:E41)
A18: - Total debits | B18: =SUM(Transactions!D2:D41)
A19: Calculated closing balance | B19: =B16+B17-B18
A20: Closing balance per statement | B20: =Transactions!F41
A21: Running-balance check | B21: =IF(AND(ROUND(B19-B20,2)=0,COUNTIF(Transactions!G2:G41,"CHECK")=0),"RECONCILED","DOES NOT TIE")
